BEGIN:VCALENDAR
VERSION:2.0
PRODID:-//wp-events-plugin.com//7.2.3.1//EN
TZID:America/New_York
X-WR-TIMEZONE:America/New_York
BEGIN:VEVENT
UID:46@mch.emory.edu
DTSTART;TZID=America/New_York:20251118T000000
DTEND;TZID=America/New_York:20251118T000000
DTSTAMP:20260129T181459Z
URL:https://mch.emory.edu/events/mch-ape-pannel/
SUMMARY:MCH APE Pannel
DESCRIPTION:First year MCH students- join us Tuesday 11/18/2025 to hear fro
 m second-year MCH students about their APE experience!\n\n
ATTACH;FMTTYPE=image/jpeg:https://mch.emory.edu/wp-content/uploads/2026/01
 /MCH-APR-Panel-Poster.png
LOCATION:GCR 119\, 1518 Clifton Rd NE\, Atlanta\, United States
X-APPLE-STRUCTURED-LOCATION;VALUE=URI;X-ADDRESS=1518 Clifton Rd NE\, Atlant
 a\, United States;X-APPLE-RADIUS=100;X-TITLE=GCR 119:geo:0,0
END:VEVENT
BEGIN:VTIMEZONE
TZID:America/New_York
X-LIC-LOCATION:America/New_York
BEGIN:STANDARD
DTSTART:20251102T010000
TZOFFSETFROM:-0400
TZOFFSETTO:-0500
TZNAME:EST
END:STANDARD
END:VTIMEZONE
END:VCALENDAR